Package: msImpute Version: 1.20.0 Command: /home/biocbuild/bbs-3.22-bioc/R/bin/R CMD build --keep-empty-dirs --no-resave-data --md5 msImpute StartedAt: 2025-11-20 19:42:27 -0500 (Thu, 20 Nov 2025) EndedAt: 2025-11-20 19:43:32 -0500 (Thu, 20 Nov 2025) EllapsedTime: 65.0 seconds RetCode: 0 Status: OK PackageFile: msImpute_1.20.0.tar.gz PackageFileSize: 1.772 MiB