Package: mpra Version: 1.31.0 Command: /home/biocbuild/bbs-3.22-bioc/R/bin/R CMD build --keep-empty-dirs --no-resave-data --md5 mpra StartedAt: 2025-10-24 18:59:41 -0400 (Fri, 24 Oct 2025) EndedAt: 2025-10-24 19:00:30 -0400 (Fri, 24 Oct 2025) EllapsedTime: 49.0 seconds RetCode: 0 Status: OK PackageFile: mpra_1.31.0.tar.gz PackageFileSize: 3.08 MiB