Package: motifmatchr Version: 1.31.1 Command: /home/biocbuild/bbs-3.22-bioc/R/bin/R CMD INSTALL motifmatchr StartedAt: 2025-10-24 16:02:50 -0400 (Fri, 24 Oct 2025) EndedAt: 2025-10-24 16:03:49 -0400 (Fri, 24 Oct 2025) EllapsedTime: 58.8 seconds RetCode: 0 Status: OK