Package: motifcounter Version: 1.34.0 Command: /home/biocbuild/bbs-3.22-bioc/R/bin/R CMD INSTALL motifcounter StartedAt: 2025-11-16 15:16:37 -0500 (Sun, 16 Nov 2025) EndedAt: 2025-11-16 15:16:49 -0500 (Sun, 16 Nov 2025) EllapsedTime: 12.2 seconds RetCode: 0 Status: OK