Package: motifTestR Version: 1.5.8 Command: /home/biocbuild/bbs-3.22-bioc/R/bin/R CMD INSTALL motifTestR StartedAt: 2025-10-28 15:23:21 -0400 (Tue, 28 Oct 2025) EndedAt: 2025-10-28 15:23:36 -0400 (Tue, 28 Oct 2025) EllapsedTime: 14.3 seconds RetCode: 0 Status: OK