Package: motifTestR Version: 1.5.8 Command: /home/biocbuild/bbs-3.22-bioc/R/bin/R CMD build --keep-empty-dirs --no-resave-data --md5 motifTestR StartedAt: 2025-10-28 18:49:09 -0400 (Tue, 28 Oct 2025) EndedAt: 2025-10-28 18:50:29 -0400 (Tue, 28 Oct 2025) EllapsedTime: 80.0 seconds RetCode: 0 Status: OK PackageFile: motifTestR_1.5.8.tar.gz PackageFileSize: 1.035 MiB