Package: motifTestR Version: 1.6.0 Command: /Library/Frameworks/R.framework/Resources/bin/R CMD INSTALL motifTestR StartedAt: 2025-10-31 15:14:51 -0400 (Fri, 31 Oct 2025) EndedAt: 2025-10-31 15:14:58 -0400 (Fri, 31 Oct 2025) EllapsedTime: 6.0 seconds RetCode: 0 Status: OK