Package: motifTestR Version: 1.6.0 Command: /Library/Frameworks/R.framework/Resources/bin/R CMD build --keep-empty-dirs --no-resave-data motifTestR StartedAt: 2025-10-31 17:10:16 -0400 (Fri, 31 Oct 2025) EndedAt: 2025-10-31 17:10:49 -0400 (Fri, 31 Oct 2025) EllapsedTime: 33.3 seconds RetCode: 0 Status: OK PackageFile: motifTestR_1.6.0.tar.gz PackageFileSize: 1.14 MiB