Package: motifTestR Version: 1.6.0 Command: rm -rf motifTestR.buildbin-libdir && mkdir motifTestR.buildbin-libdir && /Users/biocbuild/BBS/utils/build-universal.sh motifTestR_1.6.0.tar.gz /Library/Frameworks/R.framework/Resources/bin/R motifTestR.buildbin-libdir StartedAt: 2025-10-31 23:15:06 -0400 (Fri, 31 Oct 2025) EndedAt: 2025-10-31 23:15:13 -0400 (Fri, 31 Oct 2025) EllapsedTime: 7.1 seconds RetCode: 0 Status: OK PackageFile: motifTestR_1.6.0.tgz PackageFileSize: 1.248 MiB