Package: motifStack Version: 1.53.1 Command: /home/biocbuild/R/R/bin/R CMD INSTALL motifStack StartedAt: 2025-10-23 21:18:24 -0000 (Thu, 23 Oct 2025) EndedAt: 2025-10-23 21:19:26 -0000 (Thu, 23 Oct 2025) EllapsedTime: 61.7 seconds RetCode: 0 Status: OK