Package: motifStack Version: 1.53.0 Command: /home/biocbuild/R/R/bin/R CMD build --keep-empty-dirs --no-resave-data motifStack StartedAt: 2025-10-21 01:27:53 -0000 (Tue, 21 Oct 2025) EndedAt: 2025-10-21 01:30:50 -0000 (Tue, 21 Oct 2025) EllapsedTime: 177.1 seconds RetCode: 0 Status: OK PackageFile: motifStack_1.53.0.tar.gz PackageFileSize: 1.306 MiB