Package: motifStack Version: 1.53.1 Command: /home/biocbuild/bbs-3.22-bioc/R/bin/R CMD build --keep-empty-dirs --no-resave-data --md5 motifStack StartedAt: 2025-10-24 18:58:53 -0400 (Fri, 24 Oct 2025) EndedAt: 2025-10-24 19:00:56 -0400 (Fri, 24 Oct 2025) EllapsedTime: 123.1 seconds RetCode: 0 Status: OK PackageFile: motifStack_1.53.1.tar.gz PackageFileSize: 2.008 MiB