Package: motifStack Version: 1.53.1 Command: /Library/Frameworks/R.framework/Resources/bin/R CMD INSTALL motifStack StartedAt: 2025-10-24 15:52:35 -0400 (Fri, 24 Oct 2025) EndedAt: 2025-10-24 15:53:40 -0400 (Fri, 24 Oct 2025) EllapsedTime: 65.1 seconds RetCode: 0 Status: OK