Package: motifStack Version: 1.53.1 Command: /Library/Frameworks/R.framework/Resources/bin/R CMD build --keep-empty-dirs --no-resave-data motifStack StartedAt: 2025-10-24 17:54:17 -0400 (Fri, 24 Oct 2025) EndedAt: 2025-10-24 17:57:05 -0400 (Fri, 24 Oct 2025) EllapsedTime: 167.6 seconds RetCode: 0 Status: OK PackageFile: motifStack_1.53.1.tar.gz PackageFileSize: 3.88 MiB