Package: motifStack Version: 1.53.1 Command: rm -rf motifStack.buildbin-libdir && mkdir motifStack.buildbin-libdir && /Users/biocbuild/BBS/utils/build-universal.sh motifStack_1.53.1.tar.gz /Library/Frameworks/R.framework/Resources/bin/R motifStack.buildbin-libdir StartedAt: 2025-10-25 01:51:11 -0400 (Sat, 25 Oct 2025) EndedAt: 2025-10-25 01:52:19 -0400 (Sat, 25 Oct 2025) EllapsedTime: 68.1 seconds RetCode: 0 Status: OK PackageFile: motifStack_1.53.1.tgz PackageFileSize: 4.763 MiB