Package: motifStack Version: 1.53.1 Command: /Library/Frameworks/R.framework/Resources/bin/R CMD INSTALL motifStack StartedAt: 2025-10-24 15:29:51 -0400 (Fri, 24 Oct 2025) EndedAt: 2025-10-24 15:30:11 -0400 (Fri, 24 Oct 2025) EllapsedTime: 19.7 seconds RetCode: 0 Status: OK