Package: monaLisa Version: 1.15.3 Command: /home/biocbuild/bbs-3.22-bioc/R/bin/R CMD INSTALL monaLisa StartedAt: 2025-10-27 15:52:21 -0400 (Mon, 27 Oct 2025) EndedAt: 2025-10-27 15:53:05 -0400 (Mon, 27 Oct 2025) EllapsedTime: 43.8 seconds RetCode: 0 Status: OK