Package: mobileRNA Version: 1.5.2 Command: /home/biocbuild/bbs-3.22-bioc/R/bin/R CMD build --keep-empty-dirs --no-resave-data --md5 mobileRNA StartedAt: 2025-10-27 18:46:39 -0400 (Mon, 27 Oct 2025) EndedAt: 2025-10-27 18:48:15 -0400 (Mon, 27 Oct 2025) EllapsedTime: 96.1 seconds RetCode: 0 Status: OK PackageFile: mobileRNA_1.5.2.tar.gz PackageFileSize: 3.287 MiB