Package: moanin Version: 1.18.0 Command: /home/biocbuild/bbs-3.22-bioc/R/bin/R CMD INSTALL moanin StartedAt: 2025-11-16 15:48:20 -0500 (Sun, 16 Nov 2025) EndedAt: 2025-11-16 15:48:59 -0500 (Sun, 16 Nov 2025) EllapsedTime: 38.2 seconds RetCode: 0 Status: OK