Package: moanin Version: 1.18.0 Command: /home/biocbuild/bbs-3.22-bioc/R/bin/R CMD build --keep-empty-dirs --no-resave-data --md5 moanin StartedAt: 2025-11-16 18:53:52 -0500 (Sun, 16 Nov 2025) EndedAt: 2025-11-16 18:54:50 -0500 (Sun, 16 Nov 2025) EllapsedTime: 58.0 seconds RetCode: 0 Status: OK PackageFile: moanin_1.18.0.tar.gz PackageFileSize: 525.1 KiB