Package: mitoClone2 Version: 1.16.0 Command: /home/biocbuild/bbs-3.22-bioc/R/bin/R CMD build --keep-empty-dirs --no-resave-data --md5 mitoClone2 StartedAt: 2025-11-16 18:51:55 -0500 (Sun, 16 Nov 2025) EndedAt: 2025-11-16 18:56:36 -0500 (Sun, 16 Nov 2025) EllapsedTime: 281.2 seconds RetCode: 0 Status: OK PackageFile: mitoClone2_1.16.0.tar.gz PackageFileSize: 1.449 MiB