Package: mitch Version: 1.21.3 Command: /home/biocbuild/bbs-3.22-bioc/R/bin/R CMD INSTALL mitch StartedAt: 2025-10-24 15:20:38 -0400 (Fri, 24 Oct 2025) EndedAt: 2025-10-24 15:20:54 -0400 (Fri, 24 Oct 2025) EllapsedTime: 16.5 seconds RetCode: 0 Status: OK