Package: mistyR Version: 1.17.0 Command: /home/biocbuild/bbs-3.22-bioc/R/bin/R CMD build --keep-empty-dirs --no-resave-data --md5 mistyR StartedAt: 2025-10-27 18:44:11 -0400 (Mon, 27 Oct 2025) EndedAt: 2025-10-27 18:46:19 -0400 (Mon, 27 Oct 2025) EllapsedTime: 128.1 seconds RetCode: 0 Status: OK PackageFile: mistyR_1.17.0.tar.gz PackageFileSize: 2.979 MiB