Package: mist Version: 1.1.0 Command: /home/biocbuild/bbs-3.22-bioc/R/bin/R CMD INSTALL mist StartedAt: 2025-10-24 15:43:40 -0400 (Fri, 24 Oct 2025) EndedAt: 2025-10-24 15:44:10 -0400 (Fri, 24 Oct 2025) EllapsedTime: 30.5 seconds RetCode: 0 Status: OK