Package: mist Version: 1.1.0 Command: /home/biocbuild/bbs-3.22-bioc/R/bin/R CMD build --keep-empty-dirs --no-resave-data --md5 mist StartedAt: 2025-10-24 18:53:00 -0400 (Fri, 24 Oct 2025) EndedAt: 2025-10-24 18:54:36 -0400 (Fri, 24 Oct 2025) EllapsedTime: 96.1 seconds RetCode: 0 Status: OK PackageFile: mist_1.1.0.tar.gz PackageFileSize: 509.1 KiB