Package: mirTarRnaSeq Version: 1.17.0 Command: /home/biocbuild/bbs-3.22-bioc/R/bin/R CMD INSTALL mirTarRnaSeq StartedAt: 2025-10-24 15:19:17 -0400 (Fri, 24 Oct 2025) EndedAt: 2025-10-24 15:19:31 -0400 (Fri, 24 Oct 2025) EllapsedTime: 14.1 seconds RetCode: 0 Status: OK