Package: mirTarRnaSeq Version: 1.17.0 Command: /home/biocbuild/bbs-3.22-bioc/R/bin/R CMD build --keep-empty-dirs --no-resave-data --md5 mirTarRnaSeq StartedAt: 2025-10-24 18:52:48 -0400 (Fri, 24 Oct 2025) EndedAt: 2025-10-24 18:55:36 -0400 (Fri, 24 Oct 2025) EllapsedTime: 168.1 seconds RetCode: 0 Status: OK PackageFile: mirTarRnaSeq_1.17.0.tar.gz PackageFileSize: 3.432 MiB