Package: mirIntegrator Version: 1.40.0 Command: /Library/Frameworks/R.framework/Resources/bin/R CMD INSTALL mirIntegrator StartedAt: 2025-11-10 15:09:19 -0500 (Mon, 10 Nov 2025) EndedAt: 2025-11-10 15:09:26 -0500 (Mon, 10 Nov 2025) EllapsedTime: 6.6 seconds RetCode: 0 Status: OK