Package: mirIntegrator Version: 1.40.0 Command: /Library/Frameworks/R.framework/Resources/bin/R CMD build --keep-empty-dirs --no-resave-data mirIntegrator StartedAt: 2025-11-10 17:03:00 -0500 (Mon, 10 Nov 2025) EndedAt: 2025-11-10 17:03:28 -0500 (Mon, 10 Nov 2025) EllapsedTime: 28.4 seconds RetCode: 0 Status: OK PackageFile: mirIntegrator_1.40.0.tar.gz PackageFileSize: 1.808 MiB