Package: minfi Version: 1.55.1 Command: /home/biocbuild/bbs-3.22-bioc/R/bin/R CMD INSTALL minfi StartedAt: 2025-10-24 15:52:40 -0400 (Fri, 24 Oct 2025) EndedAt: 2025-10-24 15:53:31 -0400 (Fri, 24 Oct 2025) EllapsedTime: 50.6 seconds RetCode: 0 Status: OK