Package: minfi Version: 1.55.1 Command: /home/biocbuild/bbs-3.22-bioc/R/bin/R CMD build --keep-empty-dirs --no-resave-data --md5 minfi StartedAt: 2025-10-24 18:51:06 -0400 (Fri, 24 Oct 2025) EndedAt: 2025-10-24 18:52:48 -0400 (Fri, 24 Oct 2025) EllapsedTime: 102.1 seconds RetCode: 0 Status: OK PackageFile: minfi_1.55.1.tar.gz PackageFileSize: 510.9 KiB