Package: minet Version: 3.68.0 Command: /Library/Frameworks/R.framework/Resources/bin/R CMD INSTALL minet StartedAt: 2025-11-03 15:06:23 -0500 (Mon, 03 Nov 2025) EndedAt: 2025-11-03 15:06:28 -0500 (Mon, 03 Nov 2025) EllapsedTime: 4.3 seconds RetCode: 0 Status: OK