Package: minet Version: 3.68.0 Command: /Library/Frameworks/R.framework/Resources/bin/R CMD build --keep-empty-dirs --no-resave-data minet StartedAt: 2025-11-02 17:01:30 -0500 (Sun, 02 Nov 2025) EndedAt: 2025-11-02 17:01:31 -0500 (Sun, 02 Nov 2025) EllapsedTime: 1.0 seconds RetCode: 0 Status: OK PackageFile: minet_3.68.0.tar.gz PackageFileSize: 50.14 KiB