Package: minet Version: 3.68.0 Command: rm -rf minet.buildbin-libdir && mkdir minet.buildbin-libdir && /Users/biocbuild/BBS/utils/build-universal.sh minet_3.68.0.tar.gz /Library/Frameworks/R.framework/Resources/bin/R minet.buildbin-libdir StartedAt: 2025-11-03 23:11:58 -0500 (Mon, 03 Nov 2025) EndedAt: 2025-11-03 23:12:01 -0500 (Mon, 03 Nov 2025) EllapsedTime: 3.0 seconds RetCode: 0 Status: OK PackageFile: minet_3.68.0.tgz PackageFileSize: 94.02 KiB