Package: mimager Version: 1.33.0 Command: /home/biocbuild/bbs-3.22-bioc/R/bin/R CMD INSTALL mimager StartedAt: 2025-10-24 15:31:52 -0400 (Fri, 24 Oct 2025) EndedAt: 2025-10-24 15:32:18 -0400 (Fri, 24 Oct 2025) EllapsedTime: 26.5 seconds RetCode: 0 Status: OK