Package: mimager Version: 1.34.0 Command: /Library/Frameworks/R.framework/Resources/bin/R CMD INSTALL mimager StartedAt: 2025-11-10 15:13:29 -0500 (Mon, 10 Nov 2025) EndedAt: 2025-11-10 15:13:41 -0500 (Mon, 10 Nov 2025) EllapsedTime: 11.4 seconds RetCode: 0 Status: OK