Package: mimager Version: 1.34.0 Command: /Library/Frameworks/R.framework/Resources/bin/R CMD build --keep-empty-dirs --no-resave-data mimager StartedAt: 2025-11-10 17:01:53 -0500 (Mon, 10 Nov 2025) EndedAt: 2025-11-10 17:02:22 -0500 (Mon, 10 Nov 2025) EllapsedTime: 29.3 seconds RetCode: 0 Status: OK PackageFile: mimager_1.34.0.tar.gz PackageFileSize: 965.3 KiB