Package: miloR Version: 2.5.2 Command: /home/biocbuild/bbs-3.22-bioc/R/bin/R CMD INSTALL miloR StartedAt: 2025-10-24 16:03:59 -0400 (Fri, 24 Oct 2025) EndedAt: 2025-10-24 16:06:13 -0400 (Fri, 24 Oct 2025) EllapsedTime: 133.5 seconds RetCode: 0 Status: OK