Package: miloR Version: 2.6.0 Command: /Library/Frameworks/R.framework/Resources/bin/R CMD build --keep-empty-dirs --no-resave-data miloR StartedAt: 2025-11-02 17:01:08 -0500 (Sun, 02 Nov 2025) EndedAt: 2025-11-02 17:07:59 -0500 (Sun, 02 Nov 2025) EllapsedTime: 411.7 seconds RetCode: 0 Status: OK PackageFile: miloR_2.6.0.tar.gz PackageFileSize: 7.644 MiB