Package: miloR Version: 2.6.0 Command: rm -rf miloR.buildbin-libdir && mkdir miloR.buildbin-libdir && /Users/biocbuild/BBS/utils/build-universal.sh miloR_2.6.0.tar.gz /Library/Frameworks/R.framework/Resources/bin/R miloR.buildbin-libdir StartedAt: 2025-10-31 23:14:05 -0400 (Fri, 31 Oct 2025) EndedAt: 2025-10-31 23:14:45 -0400 (Fri, 31 Oct 2025) EllapsedTime: 40.7 seconds RetCode: 0 Status: OK PackageFile: miloR_2.6.0.tgz PackageFileSize: 7.208 MiB