Package: midasHLA Version: 1.17.0 Command: /home/biocbuild/bbs-3.22-bioc/R/bin/R CMD build --keep-empty-dirs --no-resave-data --md5 midasHLA StartedAt: 2025-10-24 18:50:29 -0400 (Fri, 24 Oct 2025) EndedAt: 2025-10-24 18:52:36 -0400 (Fri, 24 Oct 2025) EllapsedTime: 127.1 seconds RetCode: 0 Status: OK PackageFile: midasHLA_1.17.0.tar.gz PackageFileSize: 1.896 MiB