Package: midasHLA Version: 1.18.0 Command: /Library/Frameworks/R.framework/Resources/bin/R CMD INSTALL midasHLA StartedAt: 2025-10-31 15:17:49 -0400 (Fri, 31 Oct 2025) EndedAt: 2025-10-31 15:18:02 -0400 (Fri, 31 Oct 2025) EllapsedTime: 13.2 seconds RetCode: 0 Status: OK