Package: midasHLA Version: 1.18.0 Command: /Library/Frameworks/R.framework/Resources/bin/R CMD build --keep-empty-dirs --no-resave-data midasHLA StartedAt: 2025-10-31 17:04:54 -0400 (Fri, 31 Oct 2025) EndedAt: 2025-10-31 17:05:59 -0400 (Fri, 31 Oct 2025) EllapsedTime: 64.8 seconds RetCode: 0 Status: OK PackageFile: midasHLA_1.18.0.tar.gz PackageFileSize: 1.894 MiB