Package: microbiomeExplorer Version: 1.19.0 Command: /home/biocbuild/bbs-3.22-bioc/R/bin/R CMD INSTALL microbiomeExplorer StartedAt: 2025-10-24 15:34:50 -0400 (Fri, 24 Oct 2025) EndedAt: 2025-10-24 15:35:02 -0400 (Fri, 24 Oct 2025) EllapsedTime: 11.6 seconds RetCode: 0 Status: OK