Package: microbiomeExplorer Version: 1.20.0 Command: /Library/Frameworks/R.framework/Resources/bin/R CMD INSTALL microbiomeExplorer StartedAt: 2025-11-03 15:30:27 -0500 (Mon, 03 Nov 2025) EndedAt: 2025-11-03 15:30:44 -0500 (Mon, 03 Nov 2025) EllapsedTime: 17.1 seconds RetCode: 0 Status: OK