Package: microbiomeExplorer Version: 1.19.0 Command: /Library/Frameworks/R.framework/Resources/bin/R CMD INSTALL microbiomeExplorer StartedAt: 2025-10-24 15:18:01 -0400 (Fri, 24 Oct 2025) EndedAt: 2025-10-24 15:18:06 -0400 (Fri, 24 Oct 2025) EllapsedTime: 5.5 seconds RetCode: 0 Status: OK