Package: microbiomeExplorer Version: 1.19.0 Command: rm -rf microbiomeExplorer.buildbin-libdir && mkdir microbiomeExplorer.buildbin-libdir && /Users/biocbuild/BBS/utils/build-universal.sh microbiomeExplorer_1.19.0.tar.gz /Library/Frameworks/R.framework/Resources/bin/R microbiomeExplorer.buildbin-libdir StartedAt: 2025-10-24 23:09:50 -0400 (Fri, 24 Oct 2025) EndedAt: 2025-10-24 23:09:56 -0400 (Fri, 24 Oct 2025) EllapsedTime: 6.1 seconds RetCode: 0 Status: OK PackageFile: microbiomeExplorer_1.19.0.tgz PackageFileSize: 3.416 MiB