Package: microbiomeDASim Version: 1.23.0 Command: /home/biocbuild/bbs-3.22-bioc/R/bin/R CMD build --keep-empty-dirs --no-resave-data --md5 microbiomeDASim StartedAt: 2025-10-24 18:49:57 -0400 (Fri, 24 Oct 2025) EndedAt: 2025-10-24 18:50:41 -0400 (Fri, 24 Oct 2025) EllapsedTime: 44.1 seconds RetCode: 0 Status: OK PackageFile: microbiomeDASim_1.23.0.tar.gz PackageFileSize: 1.5 MiB