Package: microbiomeDASim Version: 1.23.0 Command: /Library/Frameworks/R.framework/Resources/bin/R CMD INSTALL microbiomeDASim StartedAt: 2025-10-24 15:26:31 -0400 (Fri, 24 Oct 2025) EndedAt: 2025-10-24 15:27:01 -0400 (Fri, 24 Oct 2025) EllapsedTime: 29.5 seconds RetCode: 0 Status: OK