Package: microSTASIS Version: 1.10.0 Command: /Library/Frameworks/R.framework/Resources/bin/R CMD build --keep-empty-dirs --no-resave-data microSTASIS StartedAt: 2025-10-30 17:38:13 -0400 (Thu, 30 Oct 2025) EndedAt: 2025-10-30 17:39:35 -0400 (Thu, 30 Oct 2025) EllapsedTime: 82.2 seconds RetCode: 0 Status: OK PackageFile: microSTASIS_1.10.0.tar.gz PackageFileSize: 1.43 MiB